BEGIN:VCALENDAR
VERSION:2.0
PRODID:-//Fullerton Financial Planning - ECPv6.15.20//NONSGML v1.0//EN
CALSCALE:GREGORIAN
METHOD:PUBLISH
X-ORIGINAL-URL:https://fullertonfp.com
X-WR-CALDESC:Events for Fullerton Financial Planning
REFRESH-INTERVAL;VALUE=DURATION:PT1H
X-Robots-Tag:noindex
X-PUBLISHED-TTL:PT1H
BEGIN:VTIMEZONE
TZID:America/Phoenix
BEGIN:STANDARD
TZOFFSETFROM:-0700
TZOFFSETTO:-0700
TZNAME:MST
DTSTART:20250101T000000
END:STANDARD
END:VTIMEZONE
BEGIN:VEVENT
DTSTART;TZID=America/Phoenix:20260106T183000
DTEND;TZID=America/Phoenix:20260106T200000
DTSTAMP:20260419T122929
CREATED:20251220T183836Z
LAST-MODIFIED:20251220T183842Z
UID:10000073-1767724200-1767729600@fullertonfp.com
SUMMARY:Tuesday\, January 6th at 6:30pm
DESCRIPTION:
URL:https://fullertonfp.com/event/tuesday-january-6th-at-630pm/
LOCATION:Arrowhead Grill\, 8280 W Union Hills Dr\, Glendale\, AZ\, 85308\, United States
CATEGORIES:Seminar
ATTACH;FMTTYPE=image/jpeg:https://fullertonfp.com/wp-content/uploads/2025/06/Arrowhead-Grill-Glendale.jpg
END:VEVENT
BEGIN:VEVENT
DTSTART;TZID=America/Phoenix:20260107T120000
DTEND;TZID=America/Phoenix:20260107T130000
DTSTAMP:20260419T122929
CREATED:20251220T183333Z
LAST-MODIFIED:20251220T183418Z
UID:10000071-1767787200-1767790800@fullertonfp.com
SUMMARY:Lunch and Learn: Rising Tax Risk (East Valley)
DESCRIPTION:
URL:https://fullertonfp.com/event/lunch-and-learn-rising-tax-risk-east-valley-6/
LOCATION:Fullerton Financial Planning – East Valley\, 600 East Rio Salado Parkway #102\, Tempe\, AZ\, 85281\, United States
CATEGORIES:Event
ATTACH;FMTTYPE=image/png:https://fullertonfp.com/wp-content/uploads/2025/06/Fullerton-Financial-Planning-Google-Logo.png
END:VEVENT
BEGIN:VEVENT
DTSTART;TZID=America/Phoenix:20260108T183000
DTEND;TZID=America/Phoenix:20260108T200000
DTSTAMP:20260419T122929
CREATED:20251220T183937Z
LAST-MODIFIED:20251220T183946Z
UID:10000074-1767897000-1767902400@fullertonfp.com
SUMMARY:Thursday\, January 8th at 6:30pm
DESCRIPTION:
URL:https://fullertonfp.com/event/thursday-january-8th-at-630pm/
LOCATION:Arrowhead Grill\, 8280 W Union Hills Dr\, Glendale\, AZ\, 85308\, United States
CATEGORIES:Seminar
ATTACH;FMTTYPE=image/jpeg:https://fullertonfp.com/wp-content/uploads/2025/06/Arrowhead-Grill-Glendale.jpg
END:VEVENT
END:VCALENDAR