BEGIN:VCALENDAR
VERSION:2.0
PRODID:-//Fullerton Financial Planning - ECPv6.15.20//NONSGML v1.0//EN
CALSCALE:GREGORIAN
METHOD:PUBLISH
X-ORIGINAL-URL:https://fullertonfp.com
X-WR-CALDESC:Events for Fullerton Financial Planning
REFRESH-INTERVAL;VALUE=DURATION:PT1H
X-Robots-Tag:noindex
X-PUBLISHED-TTL:PT1H
BEGIN:VTIMEZONE
TZID:America/Phoenix
BEGIN:STANDARD
TZOFFSETFROM:-0700
TZOFFSETTO:-0700
TZNAME:MST
DTSTART:20240101T000000
END:STANDARD
END:VTIMEZONE
BEGIN:VEVENT
DTSTART;TZID=America/Phoenix:20251202T183000
DTEND;TZID=America/Phoenix:20251202T200000
DTSTAMP:20260424T085027
CREATED:20251107T023902Z
LAST-MODIFIED:20251107T023908Z
UID:10000066-1764700200-1764705600@fullertonfp.com
SUMMARY:Tuesday\, December 2nd at 6:30pm
DESCRIPTION:
URL:https://fullertonfp.com/event/tuesday-december-2nd-at-630pm/
LOCATION:Flemings – DC Ranch\, 20753 N Pima Rd\, Scottsdale\, AZ\, 85255\, United States
CATEGORIES:Seminar
ATTACH;FMTTYPE=image/jpeg:https://fullertonfp.com/wp-content/uploads/2025/06/Flemings-DC-Ranch.jpg
END:VEVENT
BEGIN:VEVENT
DTSTART;TZID=America/Phoenix:20251203T100000
DTEND;TZID=America/Phoenix:20251203T110000
DTSTAMP:20260424T085027
CREATED:20250928T000226Z
LAST-MODIFIED:20250928T000230Z
UID:10000053-1764756000-1764759600@fullertonfp.com
SUMMARY:Coffee Talk: Maximizing Charitable Contributions
DESCRIPTION:
URL:https://fullertonfp.com/event/coffee-talk-maximizing-charitable-contributions/
LOCATION:Fullerton Financial Planning – North Scottsdale\, 18655 North Claret Drive Suite 105\, Scottsdale\, Arizona\, 85255\, United States
CATEGORIES:Event
ATTACH;FMTTYPE=image/heic:https://fullertonfp.com/wp-content/uploads/2025/09/IMG_4231-scaled.jpg
END:VEVENT
BEGIN:VEVENT
DTSTART;TZID=America/Phoenix:20251204T183000
DTEND;TZID=America/Phoenix:20251204T200000
DTSTAMP:20260424T085027
CREATED:20251107T024054Z
LAST-MODIFIED:20251107T024102Z
UID:10000067-1764873000-1764878400@fullertonfp.com
SUMMARY:Thursday\, December 4th at 6:30pm
DESCRIPTION:
URL:https://fullertonfp.com/event/thursday-december-4th-at-630pm/
LOCATION:Flemings – DC Ranch\, 20753 N Pima Rd\, Scottsdale\, AZ\, 85255\, United States
CATEGORIES:Seminar
ATTACH;FMTTYPE=image/jpeg:https://fullertonfp.com/wp-content/uploads/2025/06/Flemings-DC-Ranch.jpg
END:VEVENT
END:VCALENDAR