BEGIN:VCALENDAR
VERSION:2.0
PRODID:-//Fullerton Financial Planning - ECPv6.15.20//NONSGML v1.0//EN
CALSCALE:GREGORIAN
METHOD:PUBLISH
X-ORIGINAL-URL:https://fullertonfp.com
X-WR-CALDESC:Events for Fullerton Financial Planning
REFRESH-INTERVAL;VALUE=DURATION:PT1H
X-Robots-Tag:noindex
X-PUBLISHED-TTL:PT1H
BEGIN:VTIMEZONE
TZID:America/Phoenix
BEGIN:STANDARD
TZOFFSETFROM:-0700
TZOFFSETTO:-0700
TZNAME:MST
DTSTART:20240101T000000
END:STANDARD
END:VTIMEZONE
BEGIN:VEVENT
DTSTART;TZID=America/Phoenix:20251001T110000
DTEND;TZID=America/Phoenix:20251001T120000
DTSTAMP:20260424T171744
CREATED:20250815T203922Z
LAST-MODIFIED:20250822T152316Z
UID:10000035-1759316400-1759320000@fullertonfp.com
SUMMARY:Lunch and Learn with Chief Market Economist Tom Siomades
DESCRIPTION:
URL:https://fullertonfp.com/event/coffee-talk-with-chief-market-economist-tom-siomades/
LOCATION:Pitch at Cavasson\, 18750 Hayden Road\, Scottsdale\, AZ\, 85255\, United States
CATEGORIES:Event
ATTACH;FMTTYPE=image/png:https://fullertonfp.com/wp-content/uploads/2025/06/Fullerton-Financial-Planning-Google-Logo.png
END:VEVENT
BEGIN:VEVENT
DTSTART;TZID=America/Phoenix:20251001T183000
DTEND;TZID=America/Phoenix:20251001T200000
DTSTAMP:20260424T171744
CREATED:20250905T223858Z
LAST-MODIFIED:20250905T223931Z
UID:10000046-1759343400-1759348800@fullertonfp.com
SUMMARY:Wednesday\, October 1st at 6:30pm
DESCRIPTION:
URL:https://fullertonfp.com/event/wednesday-october-1st-at-630pm/
LOCATION:Ruth’s Chris\, 7001 N Scottsdale Rd Suite 290\, Scottsdale\, AZ\, 85253\, United States
CATEGORIES:Seminar
ATTACH;FMTTYPE=image/webp:https://fullertonfp.com/wp-content/uploads/2025/06/Ruths-Chris-Steakhouse-Scottsdale-scaled.webp
END:VEVENT
BEGIN:VEVENT
DTSTART;TZID=America/Phoenix:20251002T183000
DTEND;TZID=America/Phoenix:20251002T200000
DTSTAMP:20260424T171744
CREATED:20250905T224023Z
LAST-MODIFIED:20250905T224028Z
UID:10000047-1759429800-1759435200@fullertonfp.com
SUMMARY:Thursday\, October 2nd at 6:30pm
DESCRIPTION:
URL:https://fullertonfp.com/event/thursday-october-2nd-at-630pm/
LOCATION:Ruth’s Chris\, 7001 N Scottsdale Rd Suite 290\, Scottsdale\, AZ\, 85253\, United States
CATEGORIES:Seminar
ATTACH;FMTTYPE=image/webp:https://fullertonfp.com/wp-content/uploads/2025/06/Ruths-Chris-Steakhouse-Scottsdale-scaled.webp
END:VEVENT
END:VCALENDAR