BEGIN:VCALENDAR
VERSION:2.0
PRODID:-//Fullerton Financial Planning - ECPv6.15.20//NONSGML v1.0//EN
CALSCALE:GREGORIAN
METHOD:PUBLISH
X-ORIGINAL-URL:https://fullertonfp.com
X-WR-CALDESC:Events for Fullerton Financial Planning
REFRESH-INTERVAL;VALUE=DURATION:PT1H
X-Robots-Tag:noindex
X-PUBLISHED-TTL:PT1H
BEGIN:VTIMEZONE
TZID:America/Phoenix
BEGIN:STANDARD
TZOFFSETFROM:-0700
TZOFFSETTO:-0700
TZNAME:MST
DTSTART:20240101T000000
END:STANDARD
END:VTIMEZONE
BEGIN:VEVENT
DTSTART;TZID=America/Phoenix:20250729T183000
DTEND;TZID=America/Phoenix:20250729T200000
DTSTAMP:20260425T074249
CREATED:20250709T204933Z
LAST-MODIFIED:20250709T204938Z
UID:10000023-1753813800-1753819200@fullertonfp.com
SUMMARY:Tuesday\, July 29th at 6:30pm
DESCRIPTION:
URL:https://fullertonfp.com/event/tuesday-july-29th-at-630pm/
LOCATION:Ocean Prime\, 5455 E High St #115\, Phoenix\, AZ\, 85054\, United States
CATEGORIES:Seminar
ATTACH;FMTTYPE=image/jpeg:https://fullertonfp.com/wp-content/uploads/2025/06/Ocean-Prime-Phoenix-Exterior.jpg
END:VEVENT
BEGIN:VEVENT
DTSTART;TZID=America/Phoenix:20250730T100000
DTEND;TZID=America/Phoenix:20250730T110000
DTSTAMP:20260425T074249
CREATED:20250703T044615Z
LAST-MODIFIED:20250703T044620Z
UID:10000017-1753869600-1753873200@fullertonfp.com
SUMMARY:Coffee Talk: Summer Craft
DESCRIPTION:
URL:https://fullertonfp.com/event/coffee-talk-summer-craft/
LOCATION:Fullerton Financial Planning – West Valley\, 14155 North 83rd Avenue #144\, Peoria\, AZ\, 85381\, United States
CATEGORIES:Event
ATTACH;FMTTYPE=image/png:https://fullertonfp.com/wp-content/uploads/2025/06/Fullerton-Financial-Planning-Google-Logo.png
END:VEVENT
BEGIN:VEVENT
DTSTART;TZID=America/Phoenix:20250731T183000
DTEND;TZID=America/Phoenix:20250731T200000
DTSTAMP:20260425T074249
CREATED:20250709T205050Z
LAST-MODIFIED:20250709T205056Z
UID:10000024-1753986600-1753992000@fullertonfp.com
SUMMARY:Thursday\, July 31th at 6:30pm
DESCRIPTION:
URL:https://fullertonfp.com/event/thursday-july-31th-at-630pm/
LOCATION:Ocean Prime\, 5455 E High St #115\, Phoenix\, AZ\, 85054\, United States
CATEGORIES:Seminar
ATTACH;FMTTYPE=image/jpeg:https://fullertonfp.com/wp-content/uploads/2025/06/Ocean-Prime-Phoenix-Exterior.jpg
END:VEVENT
END:VCALENDAR