BEGIN:VCALENDAR
VERSION:2.0
PRODID:-//Fullerton Financial Planning - ECPv6.15.20//NONSGML v1.0//EN
CALSCALE:GREGORIAN
METHOD:PUBLISH
X-WR-CALNAME:Fullerton Financial Planning
X-ORIGINAL-URL:https://fullertonfp.com
X-WR-CALDESC:Events for Fullerton Financial Planning
REFRESH-INTERVAL;VALUE=DURATION:PT1H
X-Robots-Tag:noindex
X-PUBLISHED-TTL:PT1H
BEGIN:VTIMEZONE
TZID:America/Phoenix
BEGIN:STANDARD
TZOFFSETFROM:-0700
TZOFFSETTO:-0700
TZNAME:MST
DTSTART:20250101T000000
END:STANDARD
END:VTIMEZONE
BEGIN:VEVENT
DTSTART;TZID=America/Phoenix:20260115T183000
DTEND;TZID=America/Phoenix:20260115T200000
DTSTAMP:20260419T211853
CREATED:20251220T184228Z
LAST-MODIFIED:20260106T205736Z
UID:10000076-1768501800-1768507200@fullertonfp.com
SUMMARY:Thursday\, January 15th at 6:30pm
DESCRIPTION:
URL:https://fullertonfp.com/event/thursday-january-15th-at-630pm/
LOCATION:Flemings – Chandler\, 905 N 54th St\, Chandler\, AZ\, 85226\, United States
CATEGORIES:Seminar
ATTACH;FMTTYPE=image/jpeg:https://fullertonfp.com/wp-content/uploads/2025/06/Flemings-Chandler.jpg
END:VEVENT
BEGIN:VEVENT
DTSTART;TZID=America/Phoenix:20260120T183000
DTEND;TZID=America/Phoenix:20260120T200000
DTSTAMP:20260419T211853
CREATED:20260106T211108Z
LAST-MODIFIED:20260106T211121Z
UID:10000080-1768933800-1768939200@fullertonfp.com
SUMMARY:Tuesday\, January 20th at 6:30pm
DESCRIPTION:
URL:https://fullertonfp.com/event/tuesday-january-20th-at-630pm/
LOCATION:Morton’s – Scottsdale\, 15233 N Kierland Blvd\, Scottsdale\, AZ\, 85254\, United States
CATEGORIES:Seminar
ATTACH;FMTTYPE=image/png:https://fullertonfp.com/wp-content/uploads/2025/06/Mortons-Scottsdale.png
END:VEVENT
BEGIN:VEVENT
DTSTART;TZID=America/Phoenix:20260121T183000
DTEND;TZID=America/Phoenix:20260121T200000
DTSTAMP:20260419T211853
CREATED:20260106T211501Z
LAST-MODIFIED:20260106T211532Z
UID:10000082-1769020200-1769025600@fullertonfp.com
SUMMARY:Wednesday\, January 21st at 6:30pm
DESCRIPTION:
URL:https://fullertonfp.com/event/wednesday-january-21st-at-630pm/
LOCATION:Arrowhead Grill\, 8280 W Union Hills Dr\, Glendale\, AZ\, 85308\, United States
CATEGORIES:Seminar
ATTACH;FMTTYPE=image/jpeg:https://fullertonfp.com/wp-content/uploads/2025/06/Arrowhead-Grill-Glendale.jpg
END:VEVENT
BEGIN:VEVENT
DTSTART;TZID=America/Phoenix:20260122T183000
DTEND;TZID=America/Phoenix:20260122T200000
DTSTAMP:20260419T211853
CREATED:20260106T211621Z
LAST-MODIFIED:20260106T211625Z
UID:10000083-1769106600-1769112000@fullertonfp.com
SUMMARY:Thursday\, January 22nd at 6:30pm
DESCRIPTION:
URL:https://fullertonfp.com/event/thursday-january-22nd-at-630pm-2/
LOCATION:Arrowhead Grill\, 8280 W Union Hills Dr\, Glendale\, AZ\, 85308\, United States
CATEGORIES:Seminar
ATTACH;FMTTYPE=image/jpeg:https://fullertonfp.com/wp-content/uploads/2025/06/Arrowhead-Grill-Glendale.jpg
END:VEVENT
BEGIN:VEVENT
DTSTART;TZID=America/Phoenix:20260122T183000
DTEND;TZID=America/Phoenix:20260122T200000
DTSTAMP:20260419T211853
CREATED:20260106T211242Z
LAST-MODIFIED:20260106T211248Z
UID:10000081-1769106600-1769112000@fullertonfp.com
SUMMARY:Thursday\, January 22nd at 6:30pm
DESCRIPTION:
URL:https://fullertonfp.com/event/thursday-january-22nd-at-630pm/
LOCATION:Morton’s – Scottsdale\, 15233 N Kierland Blvd\, Scottsdale\, AZ\, 85254\, United States
CATEGORIES:Seminar
ATTACH;FMTTYPE=image/png:https://fullertonfp.com/wp-content/uploads/2025/06/Mortons-Scottsdale.png
END:VEVENT
BEGIN:VEVENT
DTSTART;TZID=America/Phoenix:20260127T183000
DTEND;TZID=America/Phoenix:20260127T200000
DTSTAMP:20260419T211853
CREATED:20260122T232849Z
LAST-MODIFIED:20260122T232856Z
UID:10000084-1769538600-1769544000@fullertonfp.com
SUMMARY:Tuesday\, January 27th at 6:30pm
DESCRIPTION:
URL:https://fullertonfp.com/event/tuesday-january-27th-at-630pm/
LOCATION:Ocean Prime\, 5455 E High St #115\, Phoenix\, AZ\, 85054\, United States
CATEGORIES:Seminar
ATTACH;FMTTYPE=image/jpeg:https://fullertonfp.com/wp-content/uploads/2025/06/Ocean-Prime-Phoenix-Exterior.jpg
END:VEVENT
BEGIN:VEVENT
DTSTART;TZID=America/Phoenix:20260129T183000
DTEND;TZID=America/Phoenix:20260129T200000
DTSTAMP:20260419T211853
CREATED:20260122T232946Z
LAST-MODIFIED:20260122T232953Z
UID:10000085-1769711400-1769716800@fullertonfp.com
SUMMARY:Thursday\, January 29th at 6:30pm
DESCRIPTION:
URL:https://fullertonfp.com/event/thursday-january-29th-at-630pm/
LOCATION:Ocean Prime\, 5455 E High St #115\, Phoenix\, AZ\, 85054\, United States
CATEGORIES:Seminar
ATTACH;FMTTYPE=image/jpeg:https://fullertonfp.com/wp-content/uploads/2025/06/Ocean-Prime-Phoenix-Exterior.jpg
END:VEVENT
BEGIN:VEVENT
DTSTART;TZID=America/Phoenix:20260203T183000
DTEND;TZID=America/Phoenix:20260203T200000
DTSTAMP:20260419T211853
CREATED:20260122T233129Z
LAST-MODIFIED:20260122T233136Z
UID:10000086-1770143400-1770148800@fullertonfp.com
SUMMARY:Tuesday\, February 3rd at 6:30pm
DESCRIPTION:
URL:https://fullertonfp.com/event/tuesday-february-3rd-at-630pm/
LOCATION:Flemings – Peoria\, 9712 W Northern Ave\, Peoria\, AZ\, 85345\, United States
CATEGORIES:Seminar
ATTACH;FMTTYPE=image/jpeg:https://fullertonfp.com/wp-content/uploads/2025/06/Flemings-Peoria.jpg
END:VEVENT
BEGIN:VEVENT
DTSTART;TZID=America/Phoenix:20260204T183000
DTEND;TZID=America/Phoenix:20260204T200000
DTSTAMP:20260419T211853
CREATED:20260122T233358Z
LAST-MODIFIED:20260122T233404Z
UID:10000088-1770229800-1770235200@fullertonfp.com
SUMMARY:Wednesday\, February 4th at 6:30pm
DESCRIPTION:
URL:https://fullertonfp.com/event/wednesday-february-4th-at-630pm/
LOCATION:Flemings – Chandler\, 905 N 54th St\, Chandler\, AZ\, 85226\, United States
CATEGORIES:Seminar
ATTACH;FMTTYPE=image/jpeg:https://fullertonfp.com/wp-content/uploads/2025/06/Flemings-Chandler.jpg
END:VEVENT
BEGIN:VEVENT
DTSTART;TZID=America/Phoenix:20260205T183000
DTEND;TZID=America/Phoenix:20260205T200000
DTSTAMP:20260419T211853
CREATED:20260122T233502Z
LAST-MODIFIED:20260122T233509Z
UID:10000089-1770316200-1770321600@fullertonfp.com
SUMMARY:Thursday\, February 5th at 6:30pm
DESCRIPTION:
URL:https://fullertonfp.com/event/thursday-february-5th-at-630pm-2/
LOCATION:Flemings – Chandler\, 905 N 54th St\, Chandler\, AZ\, 85226\, United States
CATEGORIES:Seminar
ATTACH;FMTTYPE=image/jpeg:https://fullertonfp.com/wp-content/uploads/2025/06/Flemings-Chandler.jpg
END:VEVENT
BEGIN:VEVENT
DTSTART;TZID=America/Phoenix:20260205T183000
DTEND;TZID=America/Phoenix:20260205T200000
DTSTAMP:20260419T211853
CREATED:20260122T233243Z
LAST-MODIFIED:20260122T233249Z
UID:10000087-1770316200-1770321600@fullertonfp.com
SUMMARY:Thursday\, February 5th at 6:30pm
DESCRIPTION:
URL:https://fullertonfp.com/event/thursday-february-5th-at-630pm/
LOCATION:Flemings – Peoria\, 9712 W Northern Ave\, Peoria\, AZ\, 85345\, United States
CATEGORIES:Seminar
ATTACH;FMTTYPE=image/jpeg:https://fullertonfp.com/wp-content/uploads/2025/06/Flemings-Peoria.jpg
END:VEVENT
BEGIN:VEVENT
DTSTART;TZID=America/Phoenix:20260211T120000
DTEND;TZID=America/Phoenix:20260211T130000
DTSTAMP:20260419T211853
CREATED:20260106T205853Z
LAST-MODIFIED:20260106T205858Z
UID:10000077-1770811200-1770814800@fullertonfp.com
SUMMARY:Lunch and Learn: Rising Tax Risk (East Valley)
DESCRIPTION:
URL:https://fullertonfp.com/event/lunch-and-learn-rising-tax-risk-east-valley-7/
LOCATION:Fullerton Financial Planning – East Valley\, 600 East Rio Salado Parkway #102\, Tempe\, AZ\, 85281\, United States
CATEGORIES:Event
ATTACH;FMTTYPE=image/png:https://fullertonfp.com/wp-content/uploads/2025/06/Fullerton-Financial-Planning-Google-Logo.png
END:VEVENT
BEGIN:VEVENT
DTSTART;TZID=America/Phoenix:20260211T183000
DTEND;TZID=America/Phoenix:20260211T200000
DTSTAMP:20260419T211853
CREATED:20260122T233614Z
LAST-MODIFIED:20260122T233621Z
UID:10000090-1770834600-1770840000@fullertonfp.com
SUMMARY:Wednesday\, February 11th at 6:30pm
DESCRIPTION:
URL:https://fullertonfp.com/event/wednesday-february-11th-at-630pm/
LOCATION:Ocean Prime\, 5455 E High St #115\, Phoenix\, AZ\, 85054\, United States
CATEGORIES:Seminar
ATTACH;FMTTYPE=image/jpeg:https://fullertonfp.com/wp-content/uploads/2025/06/Ocean-Prime-Phoenix-Exterior.jpg
END:VEVENT
BEGIN:VEVENT
DTSTART;TZID=America/Phoenix:20260212T183000
DTEND;TZID=America/Phoenix:20260212T200000
DTSTAMP:20260419T211853
CREATED:20260122T233735Z
LAST-MODIFIED:20260122T233741Z
UID:10000091-1770921000-1770926400@fullertonfp.com
SUMMARY:Thursday\, February 12th at 6:30pm
DESCRIPTION:
URL:https://fullertonfp.com/event/thursday-february-12th-at-630pm/
LOCATION:Ocean Prime\, 5455 E High St #115\, Phoenix\, AZ\, 85054\, United States
CATEGORIES:Seminar
ATTACH;FMTTYPE=image/jpeg:https://fullertonfp.com/wp-content/uploads/2025/06/Ocean-Prime-Phoenix-Exterior.jpg
END:VEVENT
BEGIN:VEVENT
DTSTART;TZID=America/Phoenix:20260219T173000
DTEND;TZID=America/Phoenix:20260219T190000
DTSTAMP:20260419T211853
CREATED:20260106T210258Z
LAST-MODIFIED:20260106T210305Z
UID:10000078-1771522200-1771527600@fullertonfp.com
SUMMARY:2025 Retirement Party Celebration: Melting Pot - Arrowhead
DESCRIPTION:Did you retire in 2025? Email melanies@fullertonfp.com if you would like to be included in this celebration!
URL:https://fullertonfp.com/event/2025-retirement-party-celebration-melting-pot-arrowhead/
LOCATION:Arrowhead Grill\, 8280 W Union Hills Dr\, Glendale\, AZ\, 85308\, United States
CATEGORIES:Event
ATTACH;FMTTYPE=image/jpeg:https://fullertonfp.com/wp-content/uploads/2025/06/Arrowhead-Grill-Glendale.jpg
END:VEVENT
END:VCALENDAR