BEGIN:VCALENDAR
VERSION:2.0
PRODID:-//Fullerton Financial Planning - ECPv6.15.20//NONSGML v1.0//EN
CALSCALE:GREGORIAN
METHOD:PUBLISH
X-ORIGINAL-URL:https://fullertonfp.com
X-WR-CALDESC:Events for Fullerton Financial Planning
REFRESH-INTERVAL;VALUE=DURATION:PT1H
X-Robots-Tag:noindex
X-PUBLISHED-TTL:PT1H
BEGIN:VTIMEZONE
TZID:America/Phoenix
BEGIN:STANDARD
TZOFFSETFROM:-0700
TZOFFSETTO:-0700
TZNAME:MST
DTSTART:20250101T000000
END:STANDARD
END:VTIMEZONE
BEGIN:VEVENT
DTSTART;TZID=America/Phoenix:20260421T183000
DTEND;TZID=America/Phoenix:20260421T200000
DTSTAMP:20260419T141347
CREATED:20260327T222258Z
LAST-MODIFIED:20260327T222305Z
UID:10000116-1776796200-1776801600@fullertonfp.com
SUMMARY:Tuesday\, April 21st at 6:30pm
DESCRIPTION:
URL:https://fullertonfp.com/event/tuesday-april-21st-at-630pm/
LOCATION:Flemings – Chandler\, 905 N 54th St\, Chandler\, AZ\, 85226\, United States
CATEGORIES:Seminar
ATTACH;FMTTYPE=image/jpeg:https://fullertonfp.com/wp-content/uploads/2025/06/Flemings-Chandler.jpg
END:VEVENT
BEGIN:VEVENT
DTSTART;TZID=America/Phoenix:20260421T183000
DTEND;TZID=America/Phoenix:20260421T200000
DTSTAMP:20260419T141347
CREATED:20260327T222528Z
LAST-MODIFIED:20260327T222534Z
UID:10000118-1776796200-1776801600@fullertonfp.com
SUMMARY:Tuesday\, April 21st at 6:30pm
DESCRIPTION:
URL:https://fullertonfp.com/event/tuesday-april-21st-at-630pm-2/
LOCATION:Arrowhead Grill\, 8280 W Union Hills Dr\, Glendale\, AZ\, 85308\, United States
CATEGORIES:Seminar
ATTACH;FMTTYPE=image/jpeg:https://fullertonfp.com/wp-content/uploads/2025/06/Arrowhead-Grill-Glendale.jpg
END:VEVENT
BEGIN:VEVENT
DTSTART;TZID=America/Phoenix:20260423T183000
DTEND;TZID=America/Phoenix:20260423T200000
DTSTAMP:20260419T141347
CREATED:20260327T222353Z
LAST-MODIFIED:20260327T222358Z
UID:10000117-1776969000-1776974400@fullertonfp.com
SUMMARY:Thursday\, April 23rd at 6:30pm
DESCRIPTION:
URL:https://fullertonfp.com/event/thursday-april-23rd-at-630pm/
LOCATION:Flemings – Chandler\, 905 N 54th St\, Chandler\, AZ\, 85226\, United States
CATEGORIES:Seminar
ATTACH;FMTTYPE=image/jpeg:https://fullertonfp.com/wp-content/uploads/2025/06/Flemings-Chandler.jpg
END:VEVENT
BEGIN:VEVENT
DTSTART;TZID=America/Phoenix:20260423T183000
DTEND;TZID=America/Phoenix:20260423T200000
DTSTAMP:20260419T141347
CREATED:20260327T222651Z
LAST-MODIFIED:20260327T222656Z
UID:10000119-1776969000-1776974400@fullertonfp.com
SUMMARY:Thursday\, April 23rd at 6:30pm
DESCRIPTION:
URL:https://fullertonfp.com/event/thursday-april-23rd-at-630pm-2/
LOCATION:Arrowhead Grill\, 8280 W Union Hills Dr\, Glendale\, AZ\, 85308\, United States
CATEGORIES:Seminar
ATTACH;FMTTYPE=image/jpeg:https://fullertonfp.com/wp-content/uploads/2025/06/Arrowhead-Grill-Glendale.jpg
END:VEVENT
BEGIN:VEVENT
DTSTART;TZID=America/Phoenix:20260429T100000
DTEND;TZID=America/Phoenix:20260429T140000
DTSTAMP:20260419T141347
CREATED:20260324T184404Z
LAST-MODIFIED:20260324T184414Z
UID:10000110-1777456800-1777471200@fullertonfp.com
SUMMARY:Shred-A-Thon
DESCRIPTION:
URL:https://fullertonfp.com/event/shred-a-thon/
LOCATION:Fullerton Financial Planning – West Valley\, 14155 North 83rd Avenue #144\, Peoria\, AZ\, 85381\, United States
CATEGORIES:Event
ATTACH;FMTTYPE=image/webp:https://fullertonfp.com/wp-content/uploads/2026/03/image.webp
END:VEVENT
BEGIN:VEVENT
DTSTART;TZID=America/Phoenix:20260507T120000
DTEND;TZID=America/Phoenix:20260507T130000
DTSTAMP:20260419T141347
CREATED:20260414T192543Z
LAST-MODIFIED:20260414T234759Z
UID:10000121-1778155200-1778158800@fullertonfp.com
SUMMARY:Lunch and Learn: Rising Tax Risk (East Valley)
DESCRIPTION:
URL:https://fullertonfp.com/event/lunch-and-learn-rising-tax-risk-east-valley-8/
LOCATION:Fullerton Financial Planning – East Valley\, 600 East Rio Salado Parkway #102\, Tempe\, AZ\, 85281\, United States
CATEGORIES:Event
ATTACH;FMTTYPE=image/png:https://fullertonfp.com/wp-content/uploads/2025/06/Fullerton-Financial-Planning-Google-Logo.png
END:VEVENT
BEGIN:VEVENT
DTSTART;TZID=America/Phoenix:20260512T190000
DTEND;TZID=America/Phoenix:20260512T210000
DTSTAMP:20260419T141347
CREATED:20260414T194427Z
LAST-MODIFIED:20260414T194436Z
UID:10000122-1778612400-1778619600@fullertonfp.com
SUMMARY:GCU vs ASU @ Brazzel Stadium at GCU
DESCRIPTION:
URL:https://fullertonfp.com/event/gcu-vs-asu-brazzel-stadium-at-gcu/
LOCATION:Brazell Field at GCU Ballpark\, 5199 N 35th Ave #5159\, Phoenix\, Arizona\, 85019\, United States
CATEGORIES:Event
ATTACH;FMTTYPE=image/jpeg:https://fullertonfp.com/wp-content/uploads/2026/04/GCU-Baseball-Hawaiian-Shirt.jpeg
END:VEVENT
BEGIN:VEVENT
DTSTART;TZID=America/Phoenix:20260521T120000
DTEND;TZID=America/Phoenix:20260521T150000
DTSTAMP:20260419T141347
CREATED:20260414T201007Z
LAST-MODIFIED:20260414T201105Z
UID:10000123-1779364800-1779375600@fullertonfp.com
SUMMARY:Pickle and Play Day @ Chicken-n-Pickle
DESCRIPTION:
URL:https://fullertonfp.com/event/pickle-and-play-day-chicken-n-pickle/
LOCATION:Chicken N Pickle\, 9330 West Hanna Lane\, Glendale\, Arizona\, 85305\, United States
CATEGORIES:Event
ATTACH;FMTTYPE=image/png:https://fullertonfp.com/wp-content/uploads/2025/06/Fullerton-Financial-Planning-Google-Logo.png
END:VEVENT
END:VCALENDAR